BEGIN:VCALENDAR
VERSION:2.0
PRODID:-//Volksschule Kreuttal - ECPv3.12.6//NONSGML v1.0//EN
CALSCALE:GREGORIAN
METHOD:PUBLISH
X-WR-CALNAME:Volksschule Kreuttal
X-ORIGINAL-URL:http://vs.kreuttal.at/cms
X-WR-CALDESC:Events for Volksschule Kreuttal
BEGIN:VEVENT
DTSTART:20200630T060000Z
DTEND:20200630T104000Z
DTSTAMP:20260425T204125Z
CREATED:20200125T205609Z
LAST-MODIFIED:20200125T205609Z
UID:468-1593496800-1593513600@vs.kreuttal.at
SUMMARY:Schulschlussausflug
DESCRIPTION:Zum Schulschluss ein Ausflug zum Flughafen in Wien-Schwechat - gute Reise!
URL:http://vs.kreuttal.at/cms/event/schulschlussausflug-3/
END:VEVENT
END:VCALENDAR